BEGIN:VCALENDAR
VERSION:2.0
PRODID:-//Espacio Elsa - ECPv5.0.2//NONSGML v1.0//EN
CALSCALE:GREGORIAN
METHOD:PUBLISH
X-WR-CALNAME:Espacio Elsa
X-ORIGINAL-URL:https://www.espacioelsa.com
X-WR-CALDESC:Eventos para Espacio Elsa
BEGIN:VTIMEZONE
TZID:Europe/Madrid
BEGIN:DAYLIGHT
TZOFFSETFROM:+0100
TZOFFSETTO:+0200
TZNAME:CEST
DTSTART:20230326T010000
END:DAYLIGHT
BEGIN:STANDARD
TZOFFSETFROM:+0200
TZOFFSETTO:+0100
TZNAME:CET
DTSTART:20231029T010000
END:STANDARD
END:VTIMEZONE
BEGIN:VEVENT
DTSTART;TZID=Europe/Madrid:20230325T150000
DTEND;TZID=Europe/Madrid:20230325T200000
DTSTAMP:20260422T111124
CREATED:20230322T105921Z
LAST-MODIFIED:20230322T105921Z
UID:3873-1679756400-1679774400@www.espacioelsa.com
SUMMARY:BARRAS y FACELIT
DESCRIPTION: \n
URL:https://www.espacioelsa.com/evento/barras-y-facelit/
LOCATION:Centro en Sants Estació\, c/ Alcolea 115 Local\, Barcelona\, Barcelona\, 08014\, España
ATTACH;FMTTYPE=image/jpeg:https://www.espacioelsa.com/wp-content/uploads/2023/03/WhatsApp-Image-2023-03-18-at-09.22.40.jpeg
END:VEVENT
END:VCALENDAR