BEGIN:VCALENDAR
VERSION:2.0
PRODID:-//Espacio Elsa - ECPv5.0.2//NONSGML v1.0//EN
CALSCALE:GREGORIAN
METHOD:PUBLISH
X-WR-CALNAME:Espacio Elsa
X-ORIGINAL-URL:https://www.espacioelsa.com
X-WR-CALDESC:Eventos para Espacio Elsa
BEGIN:VTIMEZONE
TZID:Europe/Madrid
BEGIN:DAYLIGHT
TZOFFSETFROM:+0100
TZOFFSETTO:+0200
TZNAME:CEST
DTSTART:20220327T010000
END:DAYLIGHT
BEGIN:STANDARD
TZOFFSETFROM:+0200
TZOFFSETTO:+0100
TZNAME:CET
DTSTART:20221030T010000
END:STANDARD
END:VTIMEZONE
BEGIN:VEVENT
DTSTART;VALUE=DATE:20220409
DTEND;VALUE=DATE:20220411
DTSTAMP:20260423T052854
CREATED:20220331T114517Z
LAST-MODIFIED:20220331T114706Z
UID:3772-1649462400-1649635199@www.espacioelsa.com
SUMMARY:RECALIBRANDO TU SER
DESCRIPTION:Todos tenemos mucha teoría y hemos ido a muchas conferencias y terapias\, pero lo cierto es que cuesta mucho aplicar todas esas enseñanzas a uno mismo.\nCon este taller\, lo que queremos hacer  es justamente eso: aplicarlo a tus situaciones actuales\, a tus bloqueos\, a tus miedos y darte las herramientas para cada una de ellas\, para ponerlas en práctica en tu día a día.\n\nPara conseguirlo\, utilizamos ejemplos concretos de bloqueos emocionales\, situaciones repetitivas y conflictos que detectamos también a través de la canalización y de la lectura energética. Este solo es el punto de partida que nos llevará a adquirir las herramientas para podernos enfocar en lo que nos limita en nuestro subconsciente.\n\nAl llevarlo al consciente\, lo podemos ver\, asumir y analizarlo desde todos los puntos de vista\, para finalmente salir del piloto automático que dirige nuestra vida y hacer que nuestro subconsciente actúe a nuestro favor.\n\nEn definitiva\, mirar hacia adentro y ser tu propio maestro.\n\nNuestra intención es crear un espacio de confianza en el que no tengas que gastar energías en dar una buena imagen de ti\, en el que puedas ser tú mismo porque sabes que no se te va a juzgar\, si no que a aceptar. Poder bajar las defensas y centrarse solo en re-conocer (volver a conocer) tu propia esencia.\n\nTEMARIO del CURSO:\nAplicar las 7 leyes universales a tu vida\nDescubrir el punto de vista del observador\nLa gestión emocional y cómo te afecta a tí\nDescubrir tus 5 heridas\nCómo responsabilizarte y cómo marcar tus límites?\nCómo llevar las sombras de tú inconsciente al consciente\, para llegar a la aceptación e integración.\n\nGrupos limitados a 12 personas máximo\, para poder actuar en la situación de cada asistente. Un fin de semana completo que puede cambiar tu vida. ¿Te atreves?\n\nSábado 09 de ABRIL de 10:00 a 20:00h   y   Domingo 10 de ABRIL de 10:00 a 19:30h\n\nCoste: 295 euros (incluye dossier teórico\, ejercicios\, libros recomendados y audios meditaciones canalizadas en el taller)\n\nInfo y reservas: 722  11  31 38\n\n\n
URL:https://www.espacioelsa.com/evento/3772/
LOCATION:Centro en Sants Estació\, c/ Alcolea 115 Local\, Barcelona\, Barcelona\, 08014\, España
ATTACH;FMTTYPE=image/jpeg:https://www.espacioelsa.com/wp-content/uploads/2022/03/WhatsApp-Image-2022-03-24-at-4.19.00-PM-e1648726958307.jpeg
END:VEVENT
BEGIN:VEVENT
DTSTART;TZID=Europe/Madrid:20220409T100000
DTEND;TZID=Europe/Madrid:20220409T133000
DTSTAMP:20260423T052854
CREATED:20220324T111104Z
LAST-MODIFIED:20220324T114738Z
UID:3756-1649498400-1649511000@www.espacioelsa.com
SUMMARY:Taller DIOSAS - Conoce tu Energía Femenina
DESCRIPTION:El Taller de las Diosas está inspirado en el libro LAS DIOSAS DE CADA MUJER y la relación con las diferentes Lunas y Venus de la Astrología\,\nque encontramos en cada carta Astral. \nTemario:\n📌Inicio con ejercicio de respiración Aquí y Ahora\n📌Presentación grupo y taller\n📌Introducción Astrología y Mitología/Las DIOSAS de cada mujer.\n📌Explicación sobre Luna y Venus en nuestra carta natal.\n📌Análisis de cada carta\n-Diosas que se relacionan con Luna\n-Diosas que se relacionan con Venus\n📌Ofrendas de las Diosas\n📌Cierre taller. \n📍Tiempo estimado 3horas aprox.\n📍Valor: 60 euros\n📍Sábado mañana 9 de Abril\n📍Horario:10h a 13’30 / 14h \n📍Plazo de inscripción: Hasta el día 7 de Abril \n💡Es necesario dar los datos de nacimiento( fecha\, hora lo más exacta posible y ciudad) previamente\, para así poder confeccionar un dossier personalizado de cada persona\, con su Luna y Venus en la carta natal y la descripción de la/las\nDiosas que representan \n✨Como Astrólogo me pareció muy interesante poder relacionar estos arquetipos entre sí para ayudar a dar un sentido más definido a las diferentes energías femeninas que nos constituyen y comprender las relaciones\, el amor o la autoestima.\n✨El taller he querido en especial dirigirlo a mujeres\, por ser las mayores canalizadoras de esta energía\, más aún en un momento tan importante\, en el que dicha energía se está manifestando con gran fuerza a través de ellas i la misma Madre Tierra.\n✨Aún así\, el taller pueden (y deberían) hacerlo hombres que estén interesados en conocer su energía femenina\, para integrarla con mayor consciencia\, para entender a las personas femeninas de su entorno.\n✨Venus y la Luna en la Carta Astral\, nos relatan la historia de amor que tenemos con nosotras mismas y la vida a través de nuestras relaciones.\n✨Venus es el amor romántico \, lo que queremos para sentirnos bien\, la manera en la que nos gusta disfrutar y lo que nos da placer a través de nuestros sentidos.\n✨La luna necesita de amor incondicional.\n✨Venus y la Luna \, nuestra forma de amarnos\, y desde ahí los patrones repetitivos…Dinámica. \nInfórmate : Isak Andrés +34 666 107 248 (whatsapp) \ninstagram: @_astrodomus_\nholabonasort@gmail.com \n\n \n
URL:https://www.espacioelsa.com/evento/taller-diosas-conoce-tu-energia-femenina/
LOCATION:Centro en Sants Estació\, c/ Alcolea 115 Local\, Barcelona\, Barcelona\, 08014\, España
ATTACH;FMTTYPE=image/jpeg:https://www.espacioelsa.com/wp-content/uploads/2022/03/espacioelsadiosas-e1648116253414.jpg
ORGANIZER;CN="Isak%20Astr%C3%B3logo":MAILTO:holabonasort@gmail.com
END:VEVENT
BEGIN:VEVENT
DTSTART;TZID=Europe/Madrid:20220409T170000
DTEND;TZID=Europe/Madrid:20220409T190000
DTSTAMP:20260423T052854
CREATED:20220314T104816Z
LAST-MODIFIED:20220324T120451Z
UID:3744-1649523600-1649530800@www.espacioelsa.com
SUMMARY:Circulo de conexión Femenina
DESCRIPTION:A través de nuestro cuerpo fluye la energía que nos permite estar en armonía y coherencia en relación con el mundo exterior y nuestro mundo interior. La libre circulación de ésta energía\, nos permite experimentar bienestar\, presencia\, claridad y vitalidad. Cuando el flujo energético se ve bloqueado por pensamientos y emociones\, el cuerpo empieza a manifestarlo. \nTe invito a tomar conciencia de tu cuerpo y de tus posibles bloqueos energéticos\, en un viaje de introspección guiado a través de una charla activa\, sincera y respetuosa y ejercicios prácticos que podrás integrar en tu día a día si lo necesitas. \n💛¿Cuándo? \nPróximo sábado 9 de abril de 17h a 19h en Barcelona \nPuedes acceder a más información y\, si te resuena\, inscribirte en el siguiente enlace 👇🏾\nhttps://sites.google.com/view/espaciobellaluz/actividades-barcelona/c%C3%ADrculo-de-conexi%C3%B3n-femenina \n* Si ya has participado en alguno de los círculos anteriores\, solo tienes que escribirme por WhatsApp diciéndome que estás interesada*  +34 666 33 35 64 \nTambién te dejo el link del grupo de Telegram. https://t.me/+kKDe9jRp8jswZjYx \nUn espacio para recordar nuestra capacidad creadora\, autosanadora e intuitiva\, para conectar con la vida y sus ritmos desde la conexión con nuestro mundo interior\,\, nuestra sabiduría y guía interna a través de la cotidianidad vivida en conciencia. \n¿Te unes? 🤗 \nMia Silverio 🌼 Bella Luz 🌼 \n
URL:https://www.espacioelsa.com/evento/3744/
LOCATION:Centro en Sants Estació\, c/ Alcolea 115 Local\, Barcelona\, Barcelona\, 08014\, España
ATTACH;FMTTYPE=image/jpeg:https://www.espacioelsa.com/wp-content/uploads/2022/03/WhatsApp-Image-2022-03-23-at-1.28.23-PM-1-e1648123430613.jpeg
END:VEVENT
END:VCALENDAR