BEGIN:VCALENDAR
VERSION:2.0
PRODID:-//Espacio Elsa - ECPv5.0.2//NONSGML v1.0//EN
CALSCALE:GREGORIAN
METHOD:PUBLISH
X-WR-CALNAME:Espacio Elsa
X-ORIGINAL-URL:https://www.espacioelsa.com
X-WR-CALDESC:Eventos para Espacio Elsa
BEGIN:VTIMEZONE
TZID:Europe/Madrid
BEGIN:DAYLIGHT
TZOFFSETFROM:+0100
TZOFFSETTO:+0200
TZNAME:CEST
DTSTART:20220327T010000
END:DAYLIGHT
BEGIN:STANDARD
TZOFFSETFROM:+0200
TZOFFSETTO:+0100
TZNAME:CET
DTSTART:20221030T010000
END:STANDARD
END:VTIMEZONE
BEGIN:VEVENT
DTSTART;VALUE=DATE:20220305
DTEND;VALUE=DATE:20220306
DTSTAMP:20260423T070216
CREATED:20220209T175212Z
LAST-MODIFIED:20220209T175213Z
UID:3693-1646438400-1646524799@www.espacioelsa.com
SUMMARY:Taller de la Matrix
DESCRIPTION:Taller de la Matrix \n \n\nMás información: Maria 634 80 15 25 \nhttp://www.mediumentrecartasyalmas.eu/ \n
URL:https://www.espacioelsa.com/evento/taller-de-la-matrix/
LOCATION:Centro en Sants Estació\, c/ Alcolea 115 Local\, Barcelona\, Barcelona\, 08014\, España
ATTACH;FMTTYPE=image/jpeg:https://www.espacioelsa.com/wp-content/uploads/2022/02/WhatsApp-Image-2022-01-12-at-12.24.55.jpeg
END:VEVENT
END:VCALENDAR