BEGIN:VCALENDAR
VERSION:2.0
PRODID:-//Espacio Elsa - ECPv5.0.2//NONSGML v1.0//EN
CALSCALE:GREGORIAN
METHOD:PUBLISH
X-WR-CALNAME:Espacio Elsa
X-ORIGINAL-URL:https://www.espacioelsa.com
X-WR-CALDESC:Eventos para Espacio Elsa
BEGIN:VTIMEZONE
TZID:Europe/Madrid
BEGIN:DAYLIGHT
TZOFFSETFROM:+0100
TZOFFSETTO:+0200
TZNAME:CEST
DTSTART:20220327T010000
END:DAYLIGHT
BEGIN:STANDARD
TZOFFSETFROM:+0200
TZOFFSETTO:+0100
TZNAME:CET
DTSTART:20221030T010000
END:STANDARD
END:VTIMEZONE
BEGIN:VEVENT
DTSTART;TZID=Europe/Madrid:20220225T180000
DTEND;TZID=Europe/Madrid:20220225T200000
DTSTAMP:20260423T084659
CREATED:20220204T165211Z
LAST-MODIFIED:20220204T165211Z
UID:3686-1645812000-1645819200@www.espacioelsa.com
SUMMARY:Trobades de joves
DESCRIPTION: \n
URL:https://www.espacioelsa.com/evento/trobades-de-joves-2/
LOCATION:Centro en Sants Estació\, c/ Alcolea 115 Local\, Barcelona\, Barcelona\, 08014\, España
CATEGORIES:Talleres
ATTACH;FMTTYPE=image/jpeg:https://www.espacioelsa.com/wp-content/uploads/2021/11/WhatsApp-Image-2021-11-16-at-17.58.15-e1637091866527.jpeg
END:VEVENT
END:VCALENDAR