BEGIN:VCALENDAR
VERSION:2.0
PRODID:-//Espacio Elsa - ECPv5.0.2//NONSGML v1.0//EN
CALSCALE:GREGORIAN
METHOD:PUBLISH
X-WR-CALNAME:Espacio Elsa
X-ORIGINAL-URL:https://www.espacioelsa.com
X-WR-CALDESC:Eventos para Espacio Elsa
BEGIN:VTIMEZONE
TZID:Europe/Madrid
BEGIN:DAYLIGHT
TZOFFSETFROM:+0100
TZOFFSETTO:+0200
TZNAME:CEST
DTSTART:20220327T010000
END:DAYLIGHT
BEGIN:STANDARD
TZOFFSETFROM:+0200
TZOFFSETTO:+0100
TZNAME:CET
DTSTART:20221030T010000
END:STANDARD
END:VTIMEZONE
BEGIN:VEVENT
DTSTART;TZID=Europe/Madrid:20220218T183000
DTEND;TZID=Europe/Madrid:20220218T203000
DTSTAMP:20260423T084643
CREATED:20220120T171117Z
LAST-MODIFIED:20220204T160623Z
UID:3643-1645209000-1645216200@www.espacioelsa.com
SUMMARY:Meditación activa del mundo de Osho
DESCRIPTION:Meditación activa del mundo de Osho. Sumergirnos por completo en el sacudirse el cuerpo y bailar nos ayudará a fundir la parte petrificada de nuestro ser\, soltar lo que ya no nos sirve para después fluir\, bailar y transformarnos en dicha\, celebración y alegría. \n¿Dónde?\nEspacio Elsa\, cerca de estación de Sants. \n¿Te apuntas?\nEnvía mensaje para confirmar tu asistencia al 691 598 320 \nViernes 21 de enero\,\na las 18:30h \nAportación sólo 10€ \n
URL:https://www.espacioelsa.com/evento/meditacion-activa-del-mundo-de-osho/
LOCATION:Centro en Sants Estació\, c/ Alcolea 115 Local\, Barcelona\, Barcelona\, 08014\, España
CATEGORIES:Meditación
ATTACH;FMTTYPE=image/jpeg:https://www.espacioelsa.com/wp-content/uploads/2022/01/WhatsApp-Image-2022-01-14-at-14.17.52.jpeg
END:VEVENT
END:VCALENDAR