BEGIN:VCALENDAR
VERSION:2.0
PRODID:-//Espacio Elsa - ECPv5.0.2//NONSGML v1.0//EN
CALSCALE:GREGORIAN
METHOD:PUBLISH
X-WR-CALNAME:Espacio Elsa
X-ORIGINAL-URL:https://www.espacioelsa.com
X-WR-CALDESC:Eventos para Espacio Elsa
BEGIN:VTIMEZONE
TZID:Europe/Madrid
BEGIN:DAYLIGHT
TZOFFSETFROM:+0100
TZOFFSETTO:+0200
TZNAME:CEST
DTSTART:20210328T010000
END:DAYLIGHT
BEGIN:STANDARD
TZOFFSETFROM:+0200
TZOFFSETTO:+0100
TZNAME:CET
DTSTART:20211031T010000
END:STANDARD
END:VTIMEZONE
BEGIN:VEVENT
DTSTART;VALUE=DATE:20211211
DTEND;VALUE=DATE:20211212
DTSTAMP:20260423T121356
CREATED:20211126T162308Z
LAST-MODIFIED:20211126T162308Z
UID:3585-1639180800-1639267199@www.espacioelsa.com
SUMMARY:Regalos con Aceites Esenciales
DESCRIPTION:Taller de creación Regalos con Aceites Esenciales. \nEn este taller conoceremos más de cerca que son los aceites esenciales y sus usos. \nYa que se acercan fechas señaladas\, tendremos opción de crear regalos únicos para regalar por Navidad. \nSi te apetece conocer y probar\, te esperamos: sábado 11 de Diciembre a las 11:30h \nReserva tu plaza contactando con Nuria 607 99 78 79 \nAportación 10€ por persona\n \n(nuriaariasriego@gmail.com) (@elrincondeunhe) \n  \n \n  \n
URL:https://www.espacioelsa.com/evento/regalos-con-aceites-esenciales/
LOCATION:Centro en Sants Estació\, c/ Alcolea 115 Local\, Barcelona\, Barcelona\, 08014\, España
CATEGORIES:Talleres
ATTACH;FMTTYPE=image/png:https://www.espacioelsa.com/wp-content/uploads/2021/11/taller-aceites-2-e1637943664651.png
ORGANIZER;CN="Nuria%20Arias":MAILTO:nuriaariasriego@gmail.com
END:VEVENT
END:VCALENDAR