BEGIN:VCALENDAR
VERSION:2.0
PRODID:-//Espacio Elsa - ECPv5.0.2//NONSGML v1.0//EN
CALSCALE:GREGORIAN
METHOD:PUBLISH
X-WR-CALNAME:Espacio Elsa
X-ORIGINAL-URL:https://www.espacioelsa.com
X-WR-CALDESC:Eventos para Espacio Elsa
BEGIN:VTIMEZONE
TZID:Europe/Madrid
BEGIN:DAYLIGHT
TZOFFSETFROM:+0100
TZOFFSETTO:+0200
TZNAME:CEST
DTSTART:20210328T010000
END:DAYLIGHT
BEGIN:STANDARD
TZOFFSETFROM:+0200
TZOFFSETTO:+0100
TZNAME:CET
DTSTART:20211031T010000
END:STANDARD
END:VTIMEZONE
BEGIN:VEVENT
DTSTART;TZID=Europe/Madrid:20211120T180000
DTEND;TZID=Europe/Madrid:20211120T200000
DTSTAMP:20260423T140739
CREATED:20211111T192720Z
LAST-MODIFIED:20211201T181631Z
UID:3564-1637431200-1637438400@www.espacioelsa.com
SUMMARY:Sábado de Psicodanza
DESCRIPTION:El otoño es una época para mirar nuestro interior \nCuando la oscuridad se hace más presente\, es el momento de buscar nuestra luz interior \n¿Te apetece encender esta luz? \n☯️ Sábados de Psicodanza Una nueva oportunidad de danzar y experimentar una vivencia muy íntima y personal.\n☯️ Encuentros mensuales para conocer la Psicodanza y experimentar los beneficios que te puede aportar.\n☯️ En Psicodanza se experimenta una vivencia muy íntima y personal. La conexión con la melodía es total. Despiertan todas las células del cuerpo y surge la danza de forma espontánea\, como manifestación física de esta fusión con la música. Para un mayor equilibrio \, bienestar armonía☯️ El grupo crea una red afectiva y potencia el encuentro humano\, donde uno despierta una nueva mirada de sí mismo y del mundo\, amorosa y alegre. \n  \n☯️ Más información en la web gestaltrbv.wixsite.com\n☯️ Apúntate aquí y confirma al 628 353 909 \nEvento en facebook. https://fb.me/e/1OrPBHOFn\nY si lo deseas puedes seguirme en mi perfil de instagram.com/gestaltrbv o Rosa Boada Terapeuta \n
URL:https://www.espacioelsa.com/evento/sabados-de-psicodanza/
LOCATION:Centro en Sants Estació\, c/ Alcolea 115 Local\, Barcelona\, Barcelona\, 08014\, España
CATEGORIES:Talleres
ATTACH;FMTTYPE=image/jpeg:https://www.espacioelsa.com/wp-content/uploads/2021/11/WhatsApp-Image-2021-11-02-at-15.33.16.jpeg
END:VEVENT
END:VCALENDAR