BEGIN:VCALENDAR
VERSION:2.0
PRODID:-//Espacio Elsa - ECPv5.0.2//NONSGML v1.0//EN
CALSCALE:GREGORIAN
METHOD:PUBLISH
X-WR-CALNAME:Espacio Elsa
X-ORIGINAL-URL:https://www.espacioelsa.com
X-WR-CALDESC:Eventos para Espacio Elsa
BEGIN:VTIMEZONE
TZID:Europe/Madrid
BEGIN:DAYLIGHT
TZOFFSETFROM:+0100
TZOFFSETTO:+0200
TZNAME:CEST
DTSTART:20210328T010000
END:DAYLIGHT
BEGIN:STANDARD
TZOFFSETFROM:+0200
TZOFFSETTO:+0100
TZNAME:CET
DTSTART:20211031T010000
END:STANDARD
END:VTIMEZONE
BEGIN:VEVENT
DTSTART;TZID=Europe/Madrid:20211113T100000
DTEND;TZID=Europe/Madrid:20211114T140000
DTSTAMP:20260423T142450
CREATED:20211019T113753Z
LAST-MODIFIED:20211201T181645Z
UID:3528-1636797600-1636898400@www.espacioelsa.com
SUMMARY:Taller "Sanación de útero"
DESCRIPTION:Sanación de útero \n\n¿Por qué es tan importante para las mujeres reconocer y dar presencia al útero?\n¿Qué nos aporta\, que beneficios y cualidades podemos disfrutar al conectar con este órgano?\nAunque no esté presente ya físicamente\, su energía sigue estando disponible\, se corresponde con el espacio del segundo chakra y puedes aprovechar sus cualidades y beneficios.\nComo musculo que forma parte del aparato reproductor y sexual femenino\, guarda las memorias emocionales de creencias propias y de nuestro entorno relacionadas con la energía sexual\, o lo que es lo mismo\, energía vital.\nSi sabemos que las memorias emocionales se muestran en nuestro cuerpo a través de bloqueos energéticos\, contracturas\, patrones posturales\, patologías y reacciones inconscientes dadas por nuestras creencias y vivencias\, tenemos la clave para limpiar y transmutar todo aquello que ya no nos sirve para avanzar.\nLa influencia religiosa\, los tabúes\, el machismo cultural y estructural\, las normas sociales\, el patriarcado…en menor o mayor medida y seamos conscientes o no\, estos modelos impuestos nos coartan y alejan de la gran sabiduría y empoderamiento que aportan conocer y conectar con esta fuente de energía sagrada\, que nos permite hacer\, decir\, sentir\, crear y ser.\nCada mujer en su ciclicidad es única\, actuando energías activas y receptivas\, asociadas a los arquetipos femeninos y fases lunares\, por eso atendiendo a cada necesidad\, propongo diferentes meditaciones y dinámicas energéticas para acompañar el proceso terapéutico.\n\n  \nPack de 5 sesiones individuales \n\nComo proceso terapéutico de sanación de útero\, en cada sesión trabajaremos con un arquetipo y sus energías asociadas\, para sanar patrones específicos\, profundizando y expresando sus cualidades.\nCada sesión comienza con masaje de útero y toma de conciencia corporal\, para facilitar la meditación específica que sigue\, conectando\, limpiando y equilibrando las memorias y condicionamientos que alberga el útero en incluso en caso de histerectomías se puede acceder a la información que queda en el espacio donde antes estaba la matriz.\nCualquier mujer puede disfrutar de los beneficios de una sanación de útero\, en cualquier fase de su vida y si además resuena en ti algunas de las siguientes situaciones\, pregúntame y estaré encantada de ayudarte.\n\n\nSientes que:\nTienes bloqueos\, físicos o inconscientes\, que te impiden avanzar.\nTe cuesta saber qué quieres en tu vida\nNo sabes o te resulta difícil poner límites de una forma asertiva\nNo tienes suficiente seguridad para llevar a cabo tus proyectos.\nSi estás en algún proceso de cambio interno y necesitas conectar con tu esencia\, empezar a escuchar tu intuición.\nEstás apática\, sin ilusión ni vitalidad\nNo sabes cómo desarrollar tu creatividad.\nTu deseo sexual no es el que quisieras o careces de libido.\nTus menstruaciones son dolorosas.\nEstás desconectada de tus necesidades o ni tan siquiera sabes ponerles nombre.\n\n  \nTaller sanación de útero \n\nEl útero como centro energético\, está relacionado con asuntos del segundo chakra\, dinero\, sexualidad\, poder y límites.\nRelacionado con el sentido de identidad más íntimo de la mujer y su mundo interior.\nDe su salud depende que la mujer se sienta capaz\, competente y poderosa para crearse abundancia y estabilidad económica y emocional\, y para expresar plenamente su creatividad.\nEn el útero\, moldeado por la educación\, creencias y religión residen gran parte de nuestras emociones bloqueadas: vergüenza\, ira\, miedo\, culpa…\nPara limpiar el cuerpo de emociones bloqueadas es necesario vivirlas con plena consciencia y hasta el final de la emoción.\nLa comprensión viene después de habernos permitido experimentar lo que estamos sintiendo.\nIndicado también para personas cuyo útero no esté físicamente o haya sufrido algún tipo de alteración o extirpación. La energía sigue disponible para el proceso.\nEn el taller de Sanación de Útero aprenderás la importancia y beneficios de reconectar y escucharlo\, además de prácticas de autocuidado para poder utilizar en tu día a día.\nCompartiremos experiencias y realizaremos movimientos conscientes\, masaje\, visualizaciones en meditación y técnicas energéticas para conectar y entender nuestro centro vital.\nBeneficios\nAyuda a desbloquear emociones y creencias que te impiden avanzar.\nUna brújula que te guía a conectar con lo que quieres\, tus necesidades.\nConsigue poner límites asertivamente.\nSiente la seguridad para llevar a cabo tus proyectos.\nConectar con tu intuición te ayudará a transitar procesos de cambio.\nVitalidad\, ilusión\, acción.\nDesarrolla tu creatividad.\nActiva tu libido\, mejora tu sexualidad.\nMejora e incluso elimina los dolores y molestias asociados a la menstruación.\n\n  \nMás información: Yolanda Soliño 634 539 255 \n
URL:https://www.espacioelsa.com/evento/taller-sanacion-de-utero/
LOCATION:Centro en Sants Estació\, c/ Alcolea 115 Local\, Barcelona\, Barcelona\, 08014\, España
CATEGORIES:Talleres
ATTACH;FMTTYPE=image/png:https://www.espacioelsa.com/wp-content/uploads/2021/10/poster-taller-jpg-e1634643367549.png
END:VEVENT
END:VCALENDAR