BEGIN:VCALENDAR
VERSION:2.0
PRODID:-//Espacio Elsa - ECPv5.0.2//NONSGML v1.0//EN
CALSCALE:GREGORIAN
METHOD:PUBLISH
X-WR-CALNAME:Espacio Elsa
X-ORIGINAL-URL:https://www.espacioelsa.com
X-WR-CALDESC:Eventos para Espacio Elsa
BEGIN:VTIMEZONE
TZID:Europe/Madrid
BEGIN:DAYLIGHT
TZOFFSETFROM:+0100
TZOFFSETTO:+0200
TZNAME:CEST
DTSTART:20210328T010000
END:DAYLIGHT
BEGIN:STANDARD
TZOFFSETFROM:+0200
TZOFFSETTO:+0100
TZNAME:CET
DTSTART:20211031T010000
END:STANDARD
END:VTIMEZONE
BEGIN:VEVENT
DTSTART;VALUE=DATE:20210613
DTEND;VALUE=DATE:20210614
DTSTAMP:20260423T222732
CREATED:20210601T140006Z
LAST-MODIFIED:20210602T103952Z
UID:3465-1623542400-1623628799@www.espacioelsa.com
SUMMARY:.   "HO’OPONOPONO       ASOMBROSO”
DESCRIPTION:“ÁMATE COMO NUNCA TE HA AMADO NADIE” \nPRACTICA\, PRACTICA\, PRACTICA \nENTRENANDO A TU MENTE PARA CREAR LA VIDA QUE SUEÑAS \nSi crees\, aunque sea un poquito\, que tus pensamientos crean tu realidad\, el nuevo evento presencial de Viktor Kala “Ho’oponopono Asombroso”\, hará que pases de creer\, a vivir tu nueva realidad. Si estás listo para crear un nuevo futuro\, para ir más allá de tus adicciones emocionales y estados de ánimo negativos del ser para sanar tu salud y magnetizar todo lo que deseas en tu vida\, “Ho’oponopono Asombroso” no sólo es un evento correcto para ti\, sino una respuesta a todo lo que te has preguntado sobre lo que es realmente posible para ti en esta vida. \n  \nÚNETE AL EVENTO PRESENCIAL\n13-06-2021\n“HO’OPONOPONO ASOMBROSO” \nLO QUE APRENDERÁS \nDurante este evento presencial\, comprenderás la ciencia que hay detrás de tus pensamientos y cómo tus pensamientos crean tu propia realidad\, esto te permitirá: \n \nRomper las reacciones y patrones emocionales no deseados\, desaprender los hábitos negativos del pasado\, y eliminar los comportamientos autodestructivos \n \nAprender a reconfigurar tu cerebro para abrirte a oportunidades positivas para crear una nueva personalidad y una nueva realidad personal \n \nDescubrir un método de meditación para acceder específicamente a tu subconsciente para sanar\, atraer y crear la realidad que deseas. \n  \nESTE EVENTO ES PARA TI SI:\nTe sientes atrapado en los hábitos\, emociones y patrones del pasado \nSufres una enfermedad o dolencia \nLuchas por alcanzar tus metas \nTe encuentras en relaciones insatisfactorias \nLuchas con adicciones de cualquier tipo \nTienes problemas para seguir adelante con la búsqueda de lo que quieres \nSabes que hay más en la vida de lo que está experimentando actualmente \nPiensas los mismos pensamientos una y otra vez \nViktor Kala ofrece muchas historias reales y estudios de casos de personas comunes\, como tú\, que hacen cosas poco comunes\, como curarse a sí mismos del dolor físico y emocional. Escucharás mensajes inspiradores de gente común haciendo lo extraordinario usando las últimas técnicas y ejercicios que Viktor Kala ha estado enseñando en sus talleres y seminarios. Tú también puedes experimentar estos mismos resultados cuando uses esta técnica regularmente. \n  \nLO QUE APRENDERÁS\n“RECONOCERTE ES CONECTAR CON EL AMOR Y LA PAZ QUE YA ERES” \n                  “RECORDARTE ES VOLVER A PASAR POR EL CORAZÓN” \nPrepárate para cruzar el río de la gran transformación y crear su nueva realidad personal. En este evento presencial\, Viktor Kala explica lo más nuevo de Ho’oponopono para afectar la transformación en su vida. Descubrirás el secreto de sanar la relación más importante de toda la creación\, entenderás el ciclo del pensamiento y el sentimiento y aprenderás a medir la transformación mediante el uso de técnicas específicas. También aprenderás: \n\n\n\nLa Formula Ho’oponopono y cómo trabaja al unísono para manifestar tu realidad\n¿Qué tienen que ver tus pensamientos con la creación de tu realidad…\nCómo pasar de preocuparte a ocuparte de tu propia vida.\nCómo dos personas pueden tener resultados completamente diferentes y por qué sucede esto.\n\n\n\nALCANZAR LA PAZ CONTIGO MISM@ Y CON TODO EL UNIVERSO. \nALCANZAR UNA MAYOR PRESENCIA EN EL AQUÍ Y AHORA. \nAGRADECER TODO LO QUE HAY\, INCLUSO SIN COMPRENDERLO. \nRECONOCER QUE LO QUE SOMOS ES PAZ\, AMOR\, SANACIÓN\, GRATITUD\, ESTA ES NUESTRA VERDADERA ESENCIA\, Y TODOS LOS CONFLICTOS QUE VIENEN\, VIENEN PARA SER SANADOS. \nRINDIÉNDOSE AL MOMENTO PRESENTE \n  \n¿Estás preparado para empezar a vivir la vida que sueñas?\nÚnete a nosotros en este Evento Presencial: \n\n\n\nTe facilitaremos experiencias diseñadas para sanar tu mente y tu cuerpo\n\n\n\n\n\n\nTendrás acceso a dos poderosas meditaciones totalmente nuevas\n\n\n\n\n\n\nRecibirás instrucciones para conectar con tu consciencia mediante la respiración\n\n\n\nEscucharás historias reales de sanación y experiencias de vida \n  \nRegístrate ahora enviando whatsapp al:\n632 912 864\n  \nEVENTO PRESENCIAL: HO’OPONOPONO ASOMBROSO\n10 horas de Evento Presencial en las que el Viktor Kala te guiará a través de uno de los viajes más increíbles que tendrás la oportunidad de experimentar. \n  \n2 MEDITACIONES TOTALMENTE NUEVAS  “SANANDO LA RELACIÓN MÁS IMPORTANTE DE TODA LA CREACIÓN” Y “SANACIÓN TOTAL CON HO’OPONOPONO”\nBONUS \nProfundiza aún más en el trabajo de transformar tus pensamientos y percepciones usando estas poderosas meditaciones de Viktor Kala. En ellas\, te guía a través del proceso de aprovechar el poder de tu mente para transformar tu vida. \nPIÉNSA EN GRANDE: ¡VAMOS A DEJAR DE PREOCUPARNOS Y VAMOS A OCUPARNOS!\nBONUS \nEn este evento presencial “Ho’oponopono Asombroso” de 10 horas de duración\, basado en las enseñanzas ancestrales de Ho’oponopono Viktor Kala proporciona el marco y las sencillas instrucciones paso a paso para reprogramar tu cerebro y crear la vida que siempre has deseado. \nCOMUNIDAD EN LÍNEA\nBONUS \nUna de las mayores ventajas de esta experiencia es la oportunidad de unirse y conectarse con todos los participantes a través de la conciencia colectiva. Tendrás acceso a la comunidad online de Ho’oponopono en Acción donde podrás conectarte con otros participantes y ampliar tu alcance. \n  \nPrecio del Evento: 199€\nPROMOCIÓN: 87€\n+\n¡¡Segunda entrada al 50%!\n\n(Sólo hasta el 6 de Junio)\n \nPROMOCIÓN de 87€ + 2ª ENTRADA a 43€\n  \nRegístrate ahora enviando whatsapp al:\n632 912 864\n\n \nTestimonios\n«Me llamo Mireia y para mí Ho’oponopono es PAZ. Cuando practicas a diario\, de repente…un buen día te das cuenta que vives en la PAZ y que todo está bien. En todos los eventos que he compartido con Viktor le veo como un trampolín humano que siempre te lleva un poco más allá\, fiiiiiiiiuuuuuu🚀. Crea una atmosfera en la que todos nos sentimos acompañados\, valorados y únicos. Viktor es Puro Amor Incondicional. Gracias\, gracias\, gracias.»\nMireia \n\n«Todos sabemos\, pero pocos practicamos y pasamos a la acción. En los eventos de Viktor Kala prácticas\, prácticas y creas la energía necesaria para seguir practicando hasta integrar. ¡Gracias\, gracias\, gracias! ¿He integrado la bendición y el agradecimiento y tú? ¿Agradeces?»\nEugènia Dinarès Archs \n«Para mí\, los encuentros con Viktor son un chute de consciencia. Un subidón de energía pura y limpia\, un antes y un después de mi realidad. Son un todo\, un regalazo de valor incalculable»😘😘\nIsa \n\nMi nombre es Kimi y soy amiga de Viktor Kala desde sus comienzos en el mundo del crecimiento personal. De hecho\, tuve la suerte de comenzar este camino maravilloso junto a él y se dé muy cerca toda su evolución. Si una cosa puedo decir es que todo lo que aporta a sus eventos es su auténtica esencia de todo lo que ha aprendido en estos últimos años.\nNo conozco en mi realidad ninguna persona más sincera\, honesta y amorosa como él.\nViktor es AUTENTICO en todos los sentidos\, ES UN CORAZÓN CON PATAS.\nEs una persona CONSTANTE y todo lo que aporta a sus eventos es el resultado de todo que ha aplicado primero a su VIDA   al 100%.\nES un gran ACEPTADOR de todas las circunstancias que ocurren en su día a día a pesar de que muchas veces él no esté de acuerdo. Como dice el siempre ACEPTO\, PERO NO COMPRO.\nViktor es UN GRAN MENTOR DE HO’OPONOPONO con sus palabras mágicas que le acompañan siempre; lo siento\, perdóname\, te amo\, gracias.\nEn sus eventos como en su día a día es un SER DIVINO que aporta AMOR\, ALEGRÍA\, BUEN ROLLO\, ENERGÍA DE ALTA VIBRACIÓN\, SINCERIDAD\, EJEMPLO\, CONSTANCIA\, HONRADEZ y además que para mí es súper importante BONDAD.\nYo lo acompaño siempre porque es para mí un orgullo tenerlo en mi Vida como amigo.\nGRACIAS\, GRACIAS\, GRACIAS VIKTOR KALA POR TODO EL AMOR QUE APORTAS AL MUNDO. BENDICIONES\nKimi Turró \n\nHola me llamo Mónica Vidal Ruiz y quería compartir mi experiencia sobre HO’OPONOPONO con VIKTOR KALA. Al principio me costó practicar\, pero me di cuenta que practicando\, mi energía brotaba cada día más\, me siento a gusto conmigo misma\, gracias a VIKTOR KALA con su ayuda he estado constante en mi practica. \nMe ha ayudado a ver las cosas que me sucedían\, su parte positiva y el significando de lo que mi interior me hablaba\, me decía.  Me está acompañado a seguir mi camino y a encontrarme conmigo misma.\nLa experiencia que vivo cada día al practicarlo es BRUTAL ❤️\nGRACIAS\, GRACIAS Y GRACIAS ❤️🌻❤️🌻\nMónica Vidal \n\nPara mí el evento de “Ho’oponopono Asombroso” con Viktor kala es una de las mayores oportunidades que tiene una persona para crecer de una manera divertida\, amorosa. Ho’oponopono es una técnica tan potente y sencilla al mismo tiempo que es imposible no aprenderla e introducirla en tu día a día.  Viktor Kala es un Ser de Luz lleno de Amor\, ansioso por dar todo su conocimiento experiencia para mejorar nuestras vidas. Sin dudarlo 2 veces el evento de Viktor kala nos llena de una potente sabiduría milenaria\, con sus técnicas disfrutamos como niñ@s y desde esa postura de niñ@ vamos limpiando. Lo recomiendo 100×100.\nVanessa Ness \n\nSoy Anju de Alicante\, y me encantaría que asistieras al evento presencial de Viktor Kala “Ho’oponopono Asombroso”. Viktor es un ser maravilloso\, un ser de luz\, que te va a enseñar la técnica de Ho’oponopono y cómo puedes transformar tu vida hacia dónde quieras que vaya. He asistido a otros eventos suyos y son transformadores\, didácticos\, divertidos y además donde puedes obtener un conocimiento valioso que haga que tu vida se vuelva maravillosa\, así que te recomiendo esta experiencia\, porque es una experiencia que no te puedes perder. Aprende a coger las riendas de tu vida y llévala hacia dónde quieras. Aloha!!! Gracias\, Gracias\, Gracias\nAnju \n  \nSatisfacción Garantizada\nSi no está satisfecho\, simplemente envíenos un correo electrónico a graciasgraciasygracias@gmail.com y lo reembolsaremos dentro de las 24 horas siguientes. \nEstamos seguros de que estarán encantados con el presencial  “Ho’oponopono Asombroso” y\, teniendo en cuenta todas las opiniones\, podemos ofrecerles esta política de devolución de dinero sin miedo. \n \nAcerca de Viktor Kala\nViktor Kala es un enamorado de la vida\, empresario\, Facilitador de Ho’oponopono\, observador del Amor\, creador de diversos cursos\, talleres\, eventos\, para la transformación del ser humano a través de pasar de preocuparse por la vida a ocuparse de ella.  A través de su investigación\, explora la ciencia que hay detrás de las preocupaciones para capacitar a la gente a cambiar de adentro hacia afuera. Combinando los campos de la física cuántica\, la neurociencia\, la química cerebral\, la biología y la genética\, Viktor Kala explora los efectos de la meditación sobre cómo las personas pueden reconocerse a sí mismas como seres Divinos y Perfectos y rendirse al único instante que existe\, el PRESENTE\, el AQUÍ Y AHORA. Viktor Kala recibió su doctorado en la propia experiencia de la VIDA y realizó su formación y sigue formándose a través de grandes maestros en relación con la Meditación\, PNL\, Psicología Positiva\, Neurociencia\, Ho’oponopono\, todo relacionado en la respuesta a la formación de la memoria\, el envejecimiento y la longevidad. \n  \nComparte con tus amigos\n¡La felicidad es lo único que se multiplica cuando la compartes!\n¡Así que comparte este evento presencial transformador con tus amigos! \n  \n¡¡Segunda entrada al 50%!!\n             PROMOCIÓN de 87€\n+ 2ª ENTRADA a 43€\n(Sólo hasta el 6 de Junio)\n  \nRegístrate ahora enviando whatsapp al:\n632 912 864\n  \nVAMOS\, VALIENTES\, GIGANTES \n JUNTOS EXPANDIENDO AMOR DESDE NUESTRO PROPIO CORAZÓN \nGRACIAS\, GRACIAS Y GRACIAS \nHECHO ESTÁ \n  \n \n
URL:https://www.espacioelsa.com/evento/hooponopono-asombroso/
LOCATION:Hotel Don Cándido\, Rambleta Pere Alegre\, 98\, Terrassa\, Barcelona\, España
CATEGORIES:Evento
ATTACH;FMTTYPE=image/jpeg:https://www.espacioelsa.com/wp-content/uploads/2021/06/SEMINARIO-ASOMBROSO-JUNIO-2021-e1622556339642.jpg
ORGANIZER;CN="Viktor%20Kala":MAILTO:graciasgraciasygracias@gmail.com
END:VEVENT
END:VCALENDAR