BEGIN:VCALENDAR
VERSION:2.0
PRODID:-//Espacio Elsa - ECPv5.0.2//NONSGML v1.0//EN
CALSCALE:GREGORIAN
METHOD:PUBLISH
X-WR-CALNAME:Espacio Elsa
X-ORIGINAL-URL:https://www.espacioelsa.com
X-WR-CALDESC:Eventos para Espacio Elsa
BEGIN:VTIMEZONE
TZID:Europe/Madrid
BEGIN:DAYLIGHT
TZOFFSETFROM:+0100
TZOFFSETTO:+0200
TZNAME:CEST
DTSTART:20210328T010000
END:DAYLIGHT
BEGIN:STANDARD
TZOFFSETFROM:+0200
TZOFFSETTO:+0100
TZNAME:CET
DTSTART:20211031T010000
END:STANDARD
END:VTIMEZONE
BEGIN:VEVENT
DTSTART;TZID=Europe/Madrid:20210315T190000
DTEND;TZID=Europe/Madrid:20210315T200000
DTSTAMP:20260424T033952
CREATED:20210315T171446Z
LAST-MODIFIED:20210315T171805Z
UID:3382-1615834800-1615838400@www.espacioelsa.com
SUMMARY:Charla Gratuita: Terapia Estructural
DESCRIPTION:\nCharla Gratuita: Terapia Estructural\nImpartida por Jordi Puig y Lina Weltschewa\n\nA QUIEN VA DIRIGIDA \nA quien no conozca la Teràpia Estructural y quiera saber qué es y en qué le puede ayudar. \nA personas que ya conozcan la terapia\, incluso que hayan recibido sesiones\, y que quieran profundizar en el conocimiento de su funcionamiento. \nA personas interesadas en los cursos de formación\, ya sea para crecimiento personal o para dedicarse profesionalmente. \n\nCÓMO PARTICIPAR \nSimplemente de oyente. \nHaciendo todas las preguntas que encuentre necesarias para aclarar sus dudas. \nPresentándose voluntario para la demostración práctica. \n\nESTRUCTURA DEL ACTO \nExplicación del origen\, evolución y funcionamiento de la Teràpia Estructural. \nDescripción de los cursos de formación y porque no es necesario tener conocimientos previos. \nDemostración práctica de la terapia con los asistentes que se presenten voluntarios. \n\n\nCharla en BARCELONA\, 18 de marzo\n\nInformación e inscripciones:\nNerea Armesto (654 658 245) tel. y WhatsApp\nEs necesario confirmar asistencia. \n\n
URL:https://www.espacioelsa.com/evento/charla-gratuita-terapia-estructural/
LOCATION:Centro en Sants Estació\, c/ Alcolea 115 Local\, Barcelona\, Barcelona\, 08014\, España
CATEGORIES:Conferencias
ATTACH;FMTTYPE=image/jpeg:https://www.espacioelsa.com/wp-content/uploads/2021/03/WhatsApp-Image-2021-03-15-at-16.37.55-e1615828449906.jpeg
END:VEVENT
END:VCALENDAR