BEGIN:VCALENDAR
VERSION:2.0
PRODID:-//Espacio Elsa - ECPv5.0.2//NONSGML v1.0//EN
CALSCALE:GREGORIAN
METHOD:PUBLISH
X-WR-CALNAME:Espacio Elsa
X-ORIGINAL-URL:https://www.espacioelsa.com
X-WR-CALDESC:Eventos para Espacio Elsa
BEGIN:VTIMEZONE
TZID:Europe/Madrid
BEGIN:DAYLIGHT
TZOFFSETFROM:+0100
TZOFFSETTO:+0200
TZNAME:CEST
DTSTART:20200329T010000
END:DAYLIGHT
BEGIN:STANDARD
TZOFFSETFROM:+0200
TZOFFSETTO:+0100
TZNAME:CET
DTSTART:20201025T010000
END:STANDARD
END:VTIMEZONE
BEGIN:VEVENT
DTSTART;TZID=Europe/Madrid:20201214T100000
DTEND;TZID=Europe/Madrid:20201218T200000
DTSTAMP:20260424T092004
CREATED:20201210T122455Z
LAST-MODIFIED:20201210T122610Z
UID:3293-1607940000-1608321600@www.espacioelsa.com
SUMMARY:SEMANA DE PUERTAS ABIERTAS
DESCRIPTION:¡¡Prueba nuestras Terapias de manera Gratuita en la Semana de Puertas Abiertas!! \nGrandes Profesionales te están esperando para ayudarte a sentirte mejor \nMasajes Relajantes\nMasajes Descontracturantes\nMasajes Hoslísticos\nReiki\nDieta con Acumpuntura\nPsicológia\nConexión Energética\netc… \nMira nuestra pestaña de Terapeutas y elige la Terapia que más desees probar. \n
URL:https://www.espacioelsa.com/evento/semana-de-puertas-abiertas/
LOCATION:Centro en Sants Estació\, c/ Alcolea 115 Local\, Barcelona\, Barcelona\, 08014\, España
CATEGORIES:Puertas Abiertas
ATTACH;FMTTYPE=image/jpeg:https://www.espacioelsa.com/wp-content/uploads/2020/12/Diapo-3-e1607603050857.jpg
END:VEVENT
END:VCALENDAR