BEGIN:VCALENDAR
VERSION:2.0
PRODID:-//Espacio Elsa - ECPv5.0.2//NONSGML v1.0//EN
CALSCALE:GREGORIAN
METHOD:PUBLISH
X-WR-CALNAME:Espacio Elsa
X-ORIGINAL-URL:https://www.espacioelsa.com
X-WR-CALDESC:Eventos para Espacio Elsa
BEGIN:VTIMEZONE
TZID:Europe/Madrid
BEGIN:DAYLIGHT
TZOFFSETFROM:+0100
TZOFFSETTO:+0200
TZNAME:CEST
DTSTART:20200329T010000
END:DAYLIGHT
BEGIN:STANDARD
TZOFFSETFROM:+0200
TZOFFSETTO:+0100
TZNAME:CET
DTSTART:20201025T010000
END:STANDARD
END:VTIMEZONE
BEGIN:VEVENT
DTSTART;TZID=Europe/Madrid:20200416T190000
DTEND;TZID=Europe/Madrid:20200416T200000
DTSTAMP:20260424T235614
CREATED:20200311T122418Z
LAST-MODIFIED:20200311T164019Z
UID:3209-1587063600-1587067200@www.espacioelsa.com
SUMMARY:Curso para adicciones en Mindfulness
DESCRIPTION:Taller para el Programa de Mindfulness para la Recuperación de las Adicciones \n  \n\n\n\nQué entendemos por adicción y cómo mindfulness (o atención plena) nos ayuda para la regulación de las mismas.\nQué tipo de adicciones se pueden trabajar con la práctica de la atención plena.\nQué es mindfulness. Características y propiedades.\nQuiénes son los creadores del Programa.\nObjetivos del Programa de Mindfulness para la Recuperación de Adicciones\nMetodología del Programa\nTemario del Programa\nFacilitadores: experiencia y certificación\n\n\n\n  \n
URL:https://www.espacioelsa.com/evento/curso-para-adicciones-en-mindfulness/
LOCATION:Centro en Sants Estació\, c/ Alcolea 115 Local\, Barcelona\, Barcelona\, 08014\, España
CATEGORIES:Cursos
ATTACH;FMTTYPE=image/png:https://www.espacioelsa.com/wp-content/uploads/2020/03/póster_charlainformativa-e1583925357164.png
END:VEVENT
END:VCALENDAR