BEGIN:VCALENDAR
VERSION:2.0
PRODID:-//Espacio Elsa - ECPv5.0.2//NONSGML v1.0//EN
CALSCALE:GREGORIAN
METHOD:PUBLISH
X-WR-CALNAME:Espacio Elsa
X-ORIGINAL-URL:https://www.espacioelsa.com
X-WR-CALDESC:Eventos para Espacio Elsa
BEGIN:VTIMEZONE
TZID:Europe/Madrid
BEGIN:DAYLIGHT
TZOFFSETFROM:+0100
TZOFFSETTO:+0200
TZNAME:CEST
DTSTART:20200329T010000
END:DAYLIGHT
BEGIN:STANDARD
TZOFFSETFROM:+0200
TZOFFSETTO:+0100
TZNAME:CET
DTSTART:20201025T010000
END:STANDARD
END:VTIMEZONE
BEGIN:VEVENT
DTSTART;VALUE=DATE:20200404
DTEND;VALUE=DATE:20200405
DTSTAMP:20260424T235602
CREATED:20200309T111234Z
LAST-MODIFIED:20200309T111234Z
UID:3202-1585958400-1586044799@www.espacioelsa.com
SUMMARY:TÚ PUEDES LOGRARLO
DESCRIPTION:
URL:https://www.espacioelsa.com/evento/tu-puedes-lograrlo/
LOCATION:Sala 1\, C/ Marina\, 132\, bajos\, Barcelona\, Barcelona\, 08013\, Spain
CATEGORIES:Evento
ATTACH;FMTTYPE=image/png:https://www.espacioelsa.com/wp-content/uploads/2020/03/Cartel-Evento-1-e1583752309686.png
ORGANIZER;CN="Silvia%20G%C3%B3mez":MAILTO:info@silviagomezdelpulgar.com
END:VEVENT
END:VCALENDAR