BEGIN:VCALENDAR
VERSION:2.0
PRODID:-//Espacio Elsa - ECPv5.0.2//NONSGML v1.0//EN
CALSCALE:GREGORIAN
METHOD:PUBLISH
X-WR-CALNAME:Espacio Elsa
X-ORIGINAL-URL:https://www.espacioelsa.com
X-WR-CALDESC:Eventos para Espacio Elsa
BEGIN:VTIMEZONE
TZID:Europe/Madrid
BEGIN:DAYLIGHT
TZOFFSETFROM:+0100
TZOFFSETTO:+0200
TZNAME:CEST
DTSTART:20200329T010000
END:DAYLIGHT
BEGIN:STANDARD
TZOFFSETFROM:+0200
TZOFFSETTO:+0100
TZNAME:CET
DTSTART:20201025T010000
END:STANDARD
END:VTIMEZONE
BEGIN:VEVENT
DTSTART;VALUE=DATE:20200328
DTEND;VALUE=DATE:20200330
DTSTAMP:20260425T013351
CREATED:20200229T103607Z
LAST-MODIFIED:20200229T104224Z
UID:3178-1585353600-1585526399@www.espacioelsa.com
SUMMARY:Curso Despertar la luz suprema e iniciación al Diksha con cámaras sagradas
DESCRIPTION:\n\n\n\n\n\n\n\n\n\n\n\nEste es un curso\, donde se hace un profundo proceso de liberación de cargas y sanación. Dedicando una especial atención a la relación con los padres y a la vida de pareja\, lo cual sana\, a su vez\, muchas otras relaciones y desbloquea la vida en general. \nEn este curso; también se aprende a tomar ayuda de la energía de la Fuente Suprema y de tu Ser Superior Sagrado. Y se establece o amplifica la conexión. \n\n\n\n\n\n\n\n\n\n\n\n\n\n\n\n\n\n\n\n\n\n\n\n\n\n\n \n\n\n\n\n\n\n\n\n\n\n\n*El diksha es un Fenómeno de transferencia de energía de la Consciencia superior\, que tiene como objetivo liberar al ser humano del sufrimiento\, llevándolo a un estado de Paz\, Amor\, Felicidad y conexión con todo lo que le rodea. Reconectando a la persona con su Ser superior y con la gran energía de Amor o la energía de la Luz\, para llevarlo gradualmente o rápidamente (dependiendo del caso); al estado de unidad\, amor y felicidad sin causa. El diksha es un Fenómeno\, que comenzó en un lugar sagrado de la India y que hoy en día está extendido por todo el planeta. \n\n\n\n\n\n\n\n\n\n\n\n\n\n\n\n\n\n\n\n\n\n\n\n\n\n\n\n \n\n\n\n\n\n\n\n\n\n\n\nEn este programa\, tiene lugar una profunda sanación en la vida de la persona. Se abre y se establece una mayor conexión con la amorosa energía de la Fuente\, permitiendo así\, que te llegue su ayuda.  \nSe te inicia para que puedas recibir siempre que lo necesites\, la energía de la Luz y Amor Supremo (que es una poderosa energía\, que sana en profundidad e impulsa el proceso de despertar). \nDurante el curso\, se liberarán varias cargas energéticas y emocionales\, para disolver bloqueos. Y esto afecta muy positivamente a otras áreas como; la salud\, las relaciones\, la vida profesional o el ámbito económico. \nMás allá del temario\, la Gracia y la energía de Amor o gran Luz compasiva; «trabajan» directamente con los participantes\, disolviendo cargas y bloqueos\, saneando el campo energético y abriendo el canal de conexión con la energía de la Fuente\, tal y como ésta se manifieste para cada persona. \n\n\n\n\n\n\n\n\n\n\n\n\n\n\n\n\n\n\n\n\n\n\n\n\n\n\n\n \n\n\n\n\n\n\n\n\n\n\n\n*Este programa está basado en las enseñanzas de los Maestros y Avatares espirituales Sri Amma Bhagavan; que han servido de ancla para el Fenómeno del diksha.\nSus bendiciones son conocidas por haber creado milagros para millones de personas alrededor del planeta. Fundadores de la Oneness University y de la Golden Age Movement (GAM); que es una escuela sagrada para el despertar a la humanidad.\nSu propósito es liberar al ser humano del sufrimiento y crear seres humanos que sean felices y puedan impactar positivamente a su familia y a su entorno; contribuyendo así a crear un mundo más feliz. \n\n\n\n\n\n\n\n\n\n\n\n\n\n
URL:https://www.espacioelsa.com/evento/curso-despertar-la-luz-suprema-e-iniciacion-al-diksha-con-camaras-sagradas/
LOCATION:Sala 1\, C/ Marina\, 132\, bajos\, Barcelona\, Barcelona\, 08013\, Spain
CATEGORIES:Cursos
ATTACH;FMTTYPE=image/png:https://www.espacioelsa.com/wp-content/uploads/2020/02/6075529_024f-11ea-87c6-005056bd5094_1572797517501blob-e1582972542877.png
ORGANIZER;CN="Giovanna%20Kobau":MAILTO:giovannak2025@yahoo.es
END:VEVENT
END:VCALENDAR