BEGIN:VCALENDAR
VERSION:2.0
PRODID:-//Espacio Elsa - ECPv5.0.2//NONSGML v1.0//EN
CALSCALE:GREGORIAN
METHOD:PUBLISH
X-WR-CALNAME:Espacio Elsa
X-ORIGINAL-URL:https://www.espacioelsa.com
X-WR-CALDESC:Eventos para Espacio Elsa
BEGIN:VTIMEZONE
TZID:Europe/Madrid
BEGIN:DAYLIGHT
TZOFFSETFROM:+0100
TZOFFSETTO:+0200
TZNAME:CEST
DTSTART:20200329T010000
END:DAYLIGHT
BEGIN:STANDARD
TZOFFSETFROM:+0200
TZOFFSETTO:+0100
TZNAME:CET
DTSTART:20201025T010000
END:STANDARD
END:VTIMEZONE
BEGIN:VEVENT
DTSTART;TZID=Europe/Madrid:20200314T063000
DTEND;TZID=Europe/Madrid:20200315T183000
DTSTAMP:20260425T013519
CREATED:20200307T095956Z
LAST-MODIFIED:20200307T100014Z
UID:3199-1584167400-1584297000@www.espacioelsa.com
SUMMARY:Seminario Intensivo de Asanas de Kundalini Yoga con Sadhana Singh
DESCRIPTION:Seminario Intensivo de Asanas de Kundalini Yoga con Sadhana Singh de Roma\, Italia.\n\n\nEste seminario forma parte de la Formación de Profesores de Kundalini Yoga. No es un simple seminario de Ásanas\, sino una experiencia de Kundalini Yoga y Meditación que tiene como base las Ásanas. \n\nSadhana Singh:\n\nLead Trainer de Kundalini Yoga y creador de la Formación Especializada de Kundalini Yoga\, La Ciencia de la Mente y la Humanología aplicadas al Liderazgo y el Éxito\nFue alumno de Yogi Bhajan y ha dedicado su vida a la investigación sistemática y exhaustiva de la tecnología de Kundalini Yoga.\nDedicado a enseñar y forjar nuevos profesores y futuros entrenadores. Su profundo estudio e investigación de esta tecnología sagrada lo ha inspirado como autor y ha publicado libros sobre estiramientos\, Yoga para hombres\, estilo de vida yóguico y Liderazgo y Éxito. Ha creado y es responsable del proyecto «Cristalizar el diamante» y de la Formación especializada de profesores de Kundalini Yoga «La Ciencia de la Mente y la Humanología aplicadas al Liderazgo y el Éxito». También dedica su tiempo a asesorar\, utilizando su profunda experiencia de profesor para elevar\, guiar y sanar a otros.\n\n\n\n\n\n
URL:https://www.espacioelsa.com/evento/seminario-intensivo-de-asanas-de-kundalini-yoga-con-sadhana-singh/
LOCATION:Sala 1\, C/ Marina\, 132\, bajos\, Barcelona\, Barcelona\, 08013\, Spain
CATEGORIES:Seminario
ATTACH;FMTTYPE=image/png:https://www.espacioelsa.com/wp-content/uploads/2020/03/Seminario_asanas_2020-e1583575144553.png
END:VEVENT
END:VCALENDAR