BEGIN:VCALENDAR
VERSION:2.0
PRODID:-//Espacio Elsa - ECPv5.0.2//NONSGML v1.0//EN
CALSCALE:GREGORIAN
METHOD:PUBLISH
X-WR-CALNAME:Espacio Elsa
X-ORIGINAL-URL:https://www.espacioelsa.com
X-WR-CALDESC:Eventos para Espacio Elsa
BEGIN:VTIMEZONE
TZID:Europe/Madrid
BEGIN:DAYLIGHT
TZOFFSETFROM:+0100
TZOFFSETTO:+0200
TZNAME:CEST
DTSTART:20200329T010000
END:DAYLIGHT
BEGIN:STANDARD
TZOFFSETFROM:+0200
TZOFFSETTO:+0100
TZNAME:CET
DTSTART:20201025T010000
END:STANDARD
END:VTIMEZONE
BEGIN:VEVENT
DTSTART;TZID=Europe/Madrid:20200305T203000
DTEND;TZID=Europe/Madrid:20200305T210000
DTSTAMP:20260425T013514
CREATED:20200304T173539Z
LAST-MODIFIED:20200304T173539Z
UID:3193-1583440200-1583442000@www.espacioelsa.com
SUMMARY:Emprender Liderando tu Vida
DESCRIPTION:Emprender Liderando tu Vida \nA menudo sentimos que no tenemos tiempo\, que la vida se nos escapa y el día a día nos absorbe\, nos deja sin todo aquello que nos gustaría hacer. Sólo si no cambiamos nada\, nada cambia. Tu puedes despertar y descubrir la grandes posibilidades que tienes frente de ti si abres los ojos.\nTe invitamos a a ver tu vida desde otro ángulo\, con otra forma de mirar y descubrir que puedes recuperar tu tiempo\, tu vida. \nTe esperamos. \n
URL:https://www.espacioelsa.com/evento/emprender-liderando-tu-vida/
LOCATION:Sala 2\, C/ Marina\, 132\, BIS\, Barcelona\, Barcelona\, 08013\, Spain
CATEGORIES:Conferencias
ATTACH;FMTTYPE=image/jpeg:https://www.espacioelsa.com/wp-content/uploads/2020/03/WhatsApp-Image-2020-03-04-at-5.49.23-PM-1-e1583343203177.jpeg
END:VEVENT
END:VCALENDAR