BEGIN:VCALENDAR
VERSION:2.0
PRODID:-//Espacio Elsa - ECPv5.0.2//NONSGML v1.0//EN
CALSCALE:GREGORIAN
METHOD:PUBLISH
X-WR-CALNAME:Espacio Elsa
X-ORIGINAL-URL:https://www.espacioelsa.com
X-WR-CALDESC:Eventos para Espacio Elsa
BEGIN:VTIMEZONE
TZID:Europe/Madrid
BEGIN:DAYLIGHT
TZOFFSETFROM:+0100
TZOFFSETTO:+0200
TZNAME:CEST
DTSTART:20200329T010000
END:DAYLIGHT
BEGIN:STANDARD
TZOFFSETFROM:+0200
TZOFFSETTO:+0100
TZNAME:CET
DTSTART:20201025T010000
END:STANDARD
END:VTIMEZONE
BEGIN:VEVENT
DTSTART;TZID=Europe/Madrid:20200303T190000
DTEND;TZID=Europe/Madrid:20200303T210000
DTSTAMP:20260425T013513
CREATED:20200228T154119Z
LAST-MODIFIED:20200228T154119Z
UID:3161-1583262000-1583269200@www.espacioelsa.com
SUMMARY:Presentación del libro 'Orgullo'
DESCRIPTION:Presentación del libro ‘Orgullo’\, de la colección Psicología de los Eneatipos de Claudio Naranjo. \n
URL:https://www.espacioelsa.com/evento/presentacion-del-libro-orgullo/
LOCATION:Sala 1\, C/ Marina\, 132\, bajos\, Barcelona\, Barcelona\, 08013\, Spain
CATEGORIES:Presentación de Libro
ATTACH;FMTTYPE=image/jpeg:https://www.espacioelsa.com/wp-content/uploads/2020/02/E2-Orgullo-DEF-e1582904413320.jpg
END:VEVENT
BEGIN:VEVENT
DTSTART;TZID=Europe/Madrid:20200303T203000
DTEND;TZID=Europe/Madrid:20200303T213000
DTSTAMP:20260425T013513
CREATED:20200302T124200Z
LAST-MODIFIED:20200302T124235Z
UID:3182-1583267400-1583271000@www.espacioelsa.com
SUMMARY:Conferencia Gratuita: "Tantra y Sexualidad Consciente."
DESCRIPTION:«Seguro que más de una vez te has preguntado: «¿Ya está…? ¿El sexo se acaba aquí…?\n Ábrete a la experiencia más pura de vivir y amar profundamente uniendo la Sexualidad y la Espiritualidad\,\naprendiendo a amar tántricamente\, más allá del miedo\, el apego y las dependencias\, a través de\nla sanación sexual y del corazón\, desde la compasión\, el amor y la libertad\,\nconectando con el gozo\, la alegría de vivir y la celebración.\nDescubrirás el arte del Tantra\, que incrementa la profundidad de tu corazón y de tu presencia\, convirtiendo\nel acto de hacer el amor en una oración y una comunión.\nDescubre los secretos tántricos  para vivir las relaciones\, la sexualidad y la vida con plenitud\, naturalidad\,\ndisfrute\, y más consciencia.Facilita este taller: Hari Dass. \n
URL:https://www.espacioelsa.com/evento/conferencia-gratuita-tantra-y-sexualidad-consciente/
LOCATION:Sala 1\, C/ Marina\, 132\, bajos\, Barcelona\, Barcelona\, 08013\, Spain
CATEGORIES:Conferencias
ATTACH;FMTTYPE=image/jpeg:https://www.espacioelsa.com/wp-content/uploads/2020/03/Cartel-Barcelona-Marzo-2020-scaled-e1583152881906.jpg
END:VEVENT
END:VCALENDAR