BEGIN:VCALENDAR
VERSION:2.0
PRODID:-//Espacio Elsa - ECPv5.0.2//NONSGML v1.0//EN
CALSCALE:GREGORIAN
METHOD:PUBLISH
X-WR-CALNAME:Espacio Elsa
X-ORIGINAL-URL:https://www.espacioelsa.com
X-WR-CALDESC:Eventos para Espacio Elsa
BEGIN:VTIMEZONE
TZID:Europe/Madrid
BEGIN:DAYLIGHT
TZOFFSETFROM:+0100
TZOFFSETTO:+0200
TZNAME:CEST
DTSTART:20200329T010000
END:DAYLIGHT
BEGIN:STANDARD
TZOFFSETFROM:+0200
TZOFFSETTO:+0100
TZNAME:CET
DTSTART:20201025T010000
END:STANDARD
END:VTIMEZONE
BEGIN:VEVENT
DTSTART;TZID=Europe/Madrid:20200220T190000
DTEND;TZID=Europe/Madrid:20200220T213000
DTSTAMP:20260425T034720
CREATED:20200213T161326Z
LAST-MODIFIED:20200215T122311Z
UID:3140-1582225200-1582234200@www.espacioelsa.com
SUMMARY:CONFERENCIA GRATUITA: ABUNDANCIA DESDE EL ÁRBOL GENEALÓGICO
DESCRIPTION:ABUNDANCIA DESDE EL ÁRBOL GENEALÓGICO \n\n«Deberás soltar la vida que tenías planeada\, para poder recibir a la vida que te está esperando»\n—Joseph Campbell \n  \nNuestra historia familiar cuenta con una gran variedad de temáticas y en esta conferencia nos centraremos en el tema del dinero. Heredamos de nuestro árbol genealógico unas limitaciones y unos talentos que se traducen en una programación inconsciente que seguiremos\, sin darnos cuenta. \nHablaremos de esta programación relacionada con el dinero y la abundancia. \n¿Cuáles son los mensajes que la familia nos ha transmitido en los dichos y no dichos relacionados con el dinero\, el placer\, disfrutar y tener tiempo? \n¿Tenemos el permiso por parte del clan de disfrutar de la vida? \n¿Cuáles son las herencias positivas del árbol en las que me puedo apoyar para construir mi abundancia? \nÉstos son los temas que trataremos en esta conferencia. \nEscuela Le Pas-Sage\nTfno: 670018307\nMail: contacto@laescuelalepassage.com\n\n
URL:https://www.espacioelsa.com/evento/conferencia-gatruita-abundancia-desde-el-arbol-genealogico/
LOCATION:Sala 2\, C/ Marina\, 132\, BIS\, Barcelona\, Barcelona\, 08013\, Spain
CATEGORIES:Conferencias
ATTACH;FMTTYPE=image/jpeg:https://www.espacioelsa.com/wp-content/uploads/2020/02/banner-abundancia-prosperidad-feb-bcn-e1581610381469.jpg
ORGANIZER;CN="Arantxa%20Martinez":MAILTO:descodifica.spain@gmail.com
END:VEVENT
END:VCALENDAR