BEGIN:VCALENDAR
VERSION:2.0
PRODID:-//Espacio Elsa - ECPv5.0.2//NONSGML v1.0//EN
CALSCALE:GREGORIAN
METHOD:PUBLISH
X-WR-CALNAME:Espacio Elsa
X-ORIGINAL-URL:https://www.espacioelsa.com
X-WR-CALDESC:Eventos para Espacio Elsa
BEGIN:VTIMEZONE
TZID:Europe/Madrid
BEGIN:DAYLIGHT
TZOFFSETFROM:+0100
TZOFFSETTO:+0200
TZNAME:CEST
DTSTART:20200329T010000
END:DAYLIGHT
BEGIN:STANDARD
TZOFFSETFROM:+0200
TZOFFSETTO:+0100
TZNAME:CET
DTSTART:20201025T010000
END:STANDARD
END:VTIMEZONE
BEGIN:VEVENT
DTSTART;TZID=Europe/Madrid:20200216T100000
DTEND;TZID=Europe/Madrid:20200216T200000
DTSTAMP:20260425T034709
CREATED:20200212T122051Z
LAST-MODIFIED:20200212T122218Z
UID:3135-1581847200-1581883200@www.espacioelsa.com
SUMMARY:CURSO "CONEXIÓN CON LA ABUNDANCIA" por Daniel Garcia Calvo
DESCRIPTION:CURSO «CONEXIÓN CON LA ABUNDANCIA»\npor Daniel Garcia Calvo \n  \nConecta con tu poder interior y manifiesta la vida que Deseas 🙌🏻 \n\nLa mayoría de personas viven muy por debajo de su verdadero potencial… \nEn este curso conectarás con tu mundo interior y tu mundo exterior para SINTONIZARTE con la Abundancia y obtener Cambios Reales en tu vida. \n¿Estás preparad@ para descubrir tu verdadero potencial? \nRE-PROGRAMA TU MENTE PARA TENER MÁS ÉXITO Y MÁS FELICIDAD \nAportación: 99€\n– Compra tu entrada aquí – \n  \nMeditación Guiada «CONEXIÓN CON LA ABUNDANCIA»\nENTRADA GRATUITA. Registro por whatsapp +34 664 382 439 \nBARCELONA\nViernes 14 de Febrero (18h a 19:30h)\nEspacio Elsa (Calle Marina 132) \n\n
URL:https://www.espacioelsa.com/evento/curso-conexion-con-la-abundancia-por-daniel-garcia-calvo/
LOCATION:Sala 1\, C/ Marina\, 132\, bajos\, Barcelona\, Barcelona\, 08013\, Spain
CATEGORIES:Cursos
ATTACH;FMTTYPE=image/jpeg:https://www.espacioelsa.com/wp-content/uploads/2020/02/curso-conexion-con-la-abundancia-e1581510020486.jpg
ORGANIZER;CN="Dpto.%20Eventos%20%28Daniel%20Garc%C3%ADa%20Calvo%29":MAILTO:eventos@secretosderiqueza.com
END:VEVENT
END:VCALENDAR