BEGIN:VCALENDAR
VERSION:2.0
PRODID:-//Espacio Elsa - ECPv5.0.2//NONSGML v1.0//EN
CALSCALE:GREGORIAN
METHOD:PUBLISH
X-WR-CALNAME:Espacio Elsa
X-ORIGINAL-URL:https://www.espacioelsa.com
X-WR-CALDESC:Eventos para Espacio Elsa
BEGIN:VTIMEZONE
TZID:Europe/Madrid
BEGIN:DAYLIGHT
TZOFFSETFROM:+0100
TZOFFSETTO:+0200
TZNAME:CEST
DTSTART:20200329T010000
END:DAYLIGHT
BEGIN:STANDARD
TZOFFSETFROM:+0200
TZOFFSETTO:+0100
TZNAME:CET
DTSTART:20201025T010000
END:STANDARD
END:VTIMEZONE
BEGIN:VEVENT
DTSTART;TZID=Europe/Madrid:20200211T073000
DTEND;TZID=Europe/Madrid:20200211T180000
DTSTAMP:20260425T034725
CREATED:20200205T193100Z
LAST-MODIFIED:20200205T194044Z
UID:3115-1581406200-1581444000@www.espacioelsa.com
SUMMARY:VIAJE A LA FELICIDAD  Y A LA PROSPERIDAD
DESCRIPTION:El retiro » Viaje a la Felicidad»\, es un trabajo de sanacion y liberacion de cargas\, para ayudarte a mejorar; areas como la salud\, el trabajo\, las relaciones\, etc. \nEste taller tambien tiene un impacto positivo\, en el entorno: saneando el inconsciente colectivo\, para la creacion de un planeta mas sano y feliz. \nEn este programa\, se liberan varios bloqueos. Y en cada curso recibes 2 regalos diferentes. \nEn el taller; tambien tiene lugar; una transferencia de energía sagrada\, desde Sathyalok\, ( lugar en India donde nacio el Fenomeno )\, y en ese momento tiene lugar una importante transformacion y sanacion energética. \nEste es un curso disenado por los avatares Sri Amma Bhagavan\, e impartido por la Bhagavad dasa Tejasaji: para dar a la humanidad el regalo del despertar de consciencia. \nEs un programa\, que se esta impartiendo por todo el planeta y en estas fechas se dara en aproximadamente unas 150 ciudades de Europa\,  Rusia y Surafrica. \nALGUNAS DE LAS COSAS QUE SUCEDEN A MEDIDA QUE VAS DESPERTANDO; \n– Mayor paz\, serenidad\, alegría\, amor\, creatividad y conexión. \n– Una transformación neurobiológica\, que da lugar a un cambio en la percepción de la realidad. \n– Mucha más claridad \n– Aumenta la conexión con tu Ser Superior y con la Luz y Amor Supremos\, con lo cual se facilita que se comiencen a cumplir los deseos. \n– Comienzas a experimentar el estado de amor sin causa \n– Comienzas a experimentar el estado de felicidad sin causa \n– Comienzas a experimentar el estado de libertad \n– Las relaciones se hacen mas hermosas \n– La salud mejora\, ya que muchas enfermedades son psicosomáticas \n– Te vuelves más próspero \n– Al despertar\, la vida mejora en varias areas de forma natural \n– Muchas cosas auspiciosas suceden alrededor de la persona que despierta \n– Se reduce o elimina el sufrimiento personal \n– Disminuyen los juicios y hay más amor \n– Comienzas a disfrutar de la vida y de todo lo que sucede \n– Eres más feliz y no le causas sufrimiento a los demás \n– La gratitud sucede de forma natural \n– Tu despertar beneficia a tu familia\, a tu pais y a toda la humanidad \n– Contribuyes a traer la Era Dorada al planeta \nPUNTO DE ENCUENTRO EN BARCELONA; \nEspacio Elsa; C. Marina 132. Barcelona \nHORARIO DEL CURSO: \nREGISTRO: 7.30am \nCURSO: De 7.45am a 18.00pm \nAPORTACIÓN; 45€ \nPARA RESERVAR PLAZA: \nConfirmar la asistencia\, escribiendo por email a: giovannak2025@yahoo.es\no bien al whatsapp; 658.058.854 \n– Para inscribirse: hacer un ingreso de 45€ a la cuenta de la Caixa: ES31*2100*3372*2421*0040*0939 ( Poniendo tu nombre ). Con esto queda reservada la plaza y pagado el curso. \n
URL:https://www.espacioelsa.com/evento/viaje-a-la-felicidad-y-a-la-prosperidad/
LOCATION:Sala 2\, C/ Marina\, 132\, BIS\, Barcelona\, Barcelona\, 08013\, Spain
CATEGORIES:Cursos
ATTACH;FMTTYPE=image/jpeg:https://www.espacioelsa.com/wp-content/uploads/2020/02/JOURNEY11Y18.PLAYA_.jpg
ORGANIZER;CN="Giovanna%20Kobau":MAILTO:giovannak2025@yahoo.es
END:VEVENT
BEGIN:VEVENT
DTSTART;TZID=Europe/Madrid:20200211T190000
DTEND;TZID=Europe/Madrid:20200211T210000
DTSTAMP:20260425T034725
CREATED:20191112T175505Z
LAST-MODIFIED:20200208T172502Z
UID:2941-1581447600-1581454800@www.espacioelsa.com
SUMMARY:Conferencia Gratuita de Ho’oponopono
DESCRIPTION:Conferencia Gratuita\n“Ho’oponopono Asombroso”\ncon Viktor Kala\nUn conferencia para conocer y practicar la técnica Ancestral Hawaiana de auto Sanación Ho’oponopono y aprender a confiar y crear la vida que te mereces. \n¿Me acompañas?\nHola\, soy Viktor Kala y hace unos años me definía como «un empresario estresado» hasta que el Ho’Oponopono vino a mi. Durante muchos años he estado trabajando de sol a sol en mi empresa sin tener apenas vida y con un estrés constante por motivos económicos. Notaba como poco a poco me iba quitando años de vida hasta que un día descubrí el Ho’Oponopono\, un arte hawaiano muy antiguo de resolución de problemas. Actualmente\, vivo Feliz y tranquilo\, gozo de Salud y trabajo en lo que quiero\, sin tener preocupaciones. Veo la Vida de otra manera y acepto las cosas tal como son\, simplemente Fluyo y dejo Fluir… \nEn esta Conferencia Gratuita quiero explicarte que es el Ho’Oponopono\, como funciona y que puedes hacer para que tú también Mejores tu Vida. Quiero compartir con los demás todo lo que he aprendido sobre esta Filosofía de Vivir después de estar formándome con las mejores maestras de Ho’Oponopono y maestros del coaching personal\, pero antes déjame que te cuente un poco que es el Ho’Oponopono… \nHo’oponopono significa “enmendar”\, “corregir un error” \nSegún esta filosofía\, todo lo que aparece en nuestra vida es un pensamiento\, una memoria\, un programa funcionando (un error) y se presenta para darnos una oportunidad de soltar\, de limpiar\, de borrar. \nEl Ho’oponopono es la tecla de borrar en el teclado de nuestra computadora. \n“El principal propósito de este proceso es descubrir la Divinidad dentro de uno mismo. El Ho’oponopono es un profundo regalo que nos permite desarrollar una mutua relación con la Divinidad dentro de nosotros y aprender a pedir que en cada momento\, nuestros errores en pensamiento\, palabra\, acto y acción sean limpiados. El objetivo de este proceso es esencialmente lograr la libertad\, la completa libertad del pasado” \n¿Te lo vas a perder? \n \nHORARIO DE LAS CONFERENCIAS\n– 19h a 21h – \nReserva tu entrada en: Whatsapp : 632 912 864 \nHECHO❤ESTA\nGRACIAS\, GRACIAS\, GRACIAS \n
URL:https://www.espacioelsa.com/evento/conferecia-gratuita-hooponopono-asombroso/
LOCATION:Barcelona
CATEGORIES:Conferencias
ORGANIZER;CN="Viktor%20Kala":MAILTO:graciasgraciasygracias@gmail.com
END:VEVENT
END:VCALENDAR