BEGIN:VCALENDAR
VERSION:2.0
PRODID:-//Espacio Elsa - ECPv5.0.2//NONSGML v1.0//EN
CALSCALE:GREGORIAN
METHOD:PUBLISH
X-WR-CALNAME:Espacio Elsa
X-ORIGINAL-URL:https://www.espacioelsa.com
X-WR-CALDESC:Eventos para Espacio Elsa
BEGIN:VTIMEZONE
TZID:Europe/Madrid
BEGIN:DAYLIGHT
TZOFFSETFROM:+0100
TZOFFSETTO:+0200
TZNAME:CEST
DTSTART:20200329T010000
END:DAYLIGHT
BEGIN:STANDARD
TZOFFSETFROM:+0200
TZOFFSETTO:+0100
TZNAME:CET
DTSTART:20201025T010000
END:STANDARD
END:VTIMEZONE
BEGIN:VEVENT
DTSTART;VALUE=DATE:20200208
DTEND;VALUE=DATE:20200210
DTSTAMP:20260425T034828
CREATED:20200204T175710Z
LAST-MODIFIED:20200204T180723Z
UID:3102-1581120000-1581292799@www.espacioelsa.com
SUMMARY:Taller de YOGA con SWAMI SACHIDANAND
DESCRIPTION:TALLER DE YOGA CON SWAMI SACHIDANAND\n\nQueridos amigos\, amantes del yoga y todos aquellos que establecieron un nuevo objetivo por delante.\nTodos los que están listos para nuevos comienzos\, libres de los problemas que los unen al pasado\, todos aquellos que están listos para resistir el miedo y la ansiedad\, y todos los que están listos para comenzar el nuevo año con mucho entusiasmo\, energía positiva y cambios\n\nEs un gran honor y un placer informarles que este febrero por primera vez nos visitara el gran maestro indio Sri Swami Sachidanand\, realizando un taller de Kriya Yoga\, Meditacion y Pranayama con duración de 2 dias (8 y 9 de Febrero)\n\nEste taller nos permitirá conocer\, aprender y aplicar la antigua técnica de Sanjeevani Kriya que tiene como objetivo explorar nuestro potencial oculto y más elevado como seres humanos para crear la vida que realmente amamos y merecemos\n\nAcerca de la técnica: Sanjeevani Kriya es una forma integrada e intuitiva de respiración combinada con un mantra antiguo muy poderoso que despierta los niveles más profundos de la conciencia humana\, dándonos acceso a viejos recuerdos\, traumas o bloqueos emocionales que son un freno en nuestras vidas diarias. A través de esta técnica\, conscientemente con respiración sincronizada\, seguida de relajación profunda\, guiados durante todo el proceso por nuestro maestro\, podremos aprender cómo deshacernos de esos bloqueos y experiencias negativas que están profundamente grabadas en nuestra memoria. Esas emociones negativas pueden transformarse en cambios positivos.\n\nSi te quieres unir a este taller y comenzar el 2020 de una manera diferente\, no dudes en contactarnos y solicitar +Info en +34 611636766  o augustina.ananda@gmail.com\n\nBeneficios del Taller:\n•La mente se enfoca más y se mejora la memoria.\n•Elimina las toxinas (estrés acumulado) de cada célula de su cuerpo.\n•Da enorme alegría y entusiasmo.\n•Armoniza las relaciones personales y profesionales.\n•Alivia la depresión\, las preocupaciones y la ansiedad.\n•Fortalece tu sistema inmunológico\n•Reduce el cortisol (hormona del estrés)\n•Aumenta el protactinio (hormona del bienestar)\n•Aumento del nivel de enzimas antioxidantes.\n•Incremento de concentración\, confianza y responsabilidad.\n•Mejora las habilidades interpersonales\, una mayor creatividad y una percepción clara.\n•Le permite controlar la ira y minimizar la negatividad.\n\n\nSi te quieres unir a este taller y comenzar el 2020 de una manera diferente\, no dudes en contactarnos y solicitar +Info en +34 611636766  o augustina.ananda@gmail.com\n\n\n
URL:https://www.espacioelsa.com/evento/taller-de-yoga-con-swami-sachidanand/
LOCATION:Sala 1\, C/ Marina\, 132\, bajos\, Barcelona\, Barcelona\, 08013\, Spain
CATEGORIES:Cursos
ATTACH;FMTTYPE=image/png:https://www.espacioelsa.com/wp-content/uploads/2020/02/YOGA-WORKSHOP-FB-EVENT-ES-1-e1580838993302.png
ORGANIZER;CN="Augustina":MAILTO:augustina.ananda@gmail.com
END:VEVENT
END:VCALENDAR