BEGIN:VCALENDAR
VERSION:2.0
PRODID:-//Espacio Elsa - ECPv5.0.2//NONSGML v1.0//EN
CALSCALE:GREGORIAN
METHOD:PUBLISH
X-WR-CALNAME:Espacio Elsa
X-ORIGINAL-URL:https://www.espacioelsa.com
X-WR-CALDESC:Eventos para Espacio Elsa
BEGIN:VTIMEZONE
TZID:Europe/Madrid
BEGIN:DAYLIGHT
TZOFFSETFROM:+0100
TZOFFSETTO:+0200
TZNAME:CEST
DTSTART:20190331T010000
END:DAYLIGHT
BEGIN:STANDARD
TZOFFSETFROM:+0200
TZOFFSETTO:+0100
TZNAME:CET
DTSTART:20191027T010000
END:STANDARD
END:VTIMEZONE
BEGIN:VEVENT
DTSTART;TZID=Europe/Madrid:20191025T190000
DTEND;TZID=Europe/Madrid:20191025T210000
DTSTAMP:20260425T111418
CREATED:20191024T140631Z
LAST-MODIFIED:20191024T140631Z
UID:2905-1572030000-1572037200@www.espacioelsa.com
SUMMARY:Conferencia Gratuita: "Ya no aguanto más"
DESCRIPTION:
URL:https://www.espacioelsa.com/evento/conferencia-gratuita-ya-no-aguanto-mas/
LOCATION:Sala 1\, C/ Marina\, 132\, bajos\, Barcelona\, Barcelona\, 08013\, Spain
CATEGORIES:Conferencias
ATTACH;FMTTYPE=image/jpeg:https://www.espacioelsa.com/wp-content/uploads/2019/10/WhatsApp-Image-2019-10-24-at-16.00.20.jpeg
ORGANIZER;CN="PAMELA%20%20Jara%20Gomez":MAILTO:jaragomezpamela@gmail.com
END:VEVENT
END:VCALENDAR