BEGIN:VCALENDAR
VERSION:2.0
PRODID:-//Espacio Elsa - ECPv5.0.2//NONSGML v1.0//EN
CALSCALE:GREGORIAN
METHOD:PUBLISH
X-WR-CALNAME:Espacio Elsa
X-ORIGINAL-URL:https://www.espacioelsa.com
X-WR-CALDESC:Eventos para Espacio Elsa
BEGIN:VTIMEZONE
TZID:Europe/Madrid
BEGIN:DAYLIGHT
TZOFFSETFROM:+0100
TZOFFSETTO:+0200
TZNAME:CEST
DTSTART:20190331T010000
END:DAYLIGHT
BEGIN:STANDARD
TZOFFSETFROM:+0200
TZOFFSETTO:+0100
TZNAME:CET
DTSTART:20191027T010000
END:STANDARD
END:VTIMEZONE
BEGIN:VEVENT
DTSTART;TZID=Europe/Madrid:20191023T190000
DTEND;TZID=Europe/Madrid:20191023T210000
DTSTAMP:20260425T111351
CREATED:20191020T135535Z
LAST-MODIFIED:20191020T135535Z
UID:2891-1571857200-1571864400@www.espacioelsa.com
SUMMARY:Conferencia Gratuita "Secretos de Riqueza"
DESCRIPTION:HAY ALGO IMPORTANTE QUE DEBES SABER…\n\nLa gente rica\, es rica porque realmente Piensan y Actúan de una manera muy distinta a la gente pobre o de clase media. \nPara poder Cambiar Tu Suerte y empezar a Mejorar Tu Futuro Económico Necesitas a Alguien que Te Guíe (a poder ser\, Alguien que YA sea RICO) \n¿QUÉ APRENDERÁS en esta CONFERENCIA GRATUITA? \n\nEl MOTIVO Nº1 por el cual la mayoría de gente sufre por dinero durante toda su vida.\nLas CAUSAS SUBYACENTES que diferencian el Éxito y el Fracaso económico.\nEl INGREDIENTE SECRETO de la gente que ha logrado crear grandes fortunas en su vida… ¡¡Incluso empezando desde cero!!\nACTITUDES para crear riqueza y obtener una vida extraordinaria.\nQUÉ TIENES QUE HACER\, no solo para sobrevivir sino para incluso PROSPERAR\, en medio de este desastre económico que estamos viviendo.\n\nY muchas cosas más!!! \n
URL:https://www.espacioelsa.com/evento/conferencia-gratuita-secretos-de-riqueza-2/
LOCATION:Sala 2\, C/ Marina\, 132\, BIS\, Barcelona\, Barcelona\, 08013\, Spain
CATEGORIES:Conferencias
ATTACH;FMTTYPE=image/jpeg:https://www.espacioelsa.com/wp-content/uploads/2019/05/imagen-CORTA-Flyer-e1557327177379.jpg
ORGANIZER;CN="Dpto.%20Eventos%20%28Daniel%20Garc%C3%ADa%20Calvo%29":MAILTO:eventos@secretosderiqueza.com
END:VEVENT
BEGIN:VEVENT
DTSTART;TZID=Europe/Madrid:20191023T190000
DTEND;TZID=Europe/Madrid:20191023T200000
DTSTAMP:20260425T111351
CREATED:20191021T185358Z
LAST-MODIFIED:20191021T185358Z
UID:2898-1571857200-1571860800@www.espacioelsa.com
SUMMARY:Conferencia Gratuita Reprograma-T
DESCRIPTION:
URL:https://www.espacioelsa.com/evento/conferencia-gratuita-reprograma-t/
LOCATION:Centro en Sants Estació\, c/ Alcolea 115 Local\, Barcelona\, Barcelona\, 08014\, España
CATEGORIES:Conferencias
ATTACH;FMTTYPE=image/jpeg:https://www.espacioelsa.com/wp-content/uploads/2019/10/CARTEL-CONFE.-ELSA-23OCT-e1571684017442.jpg
END:VEVENT
END:VCALENDAR