BEGIN:VCALENDAR
VERSION:2.0
PRODID:-//Espacio Elsa - ECPv5.0.2//NONSGML v1.0//EN
CALSCALE:GREGORIAN
METHOD:PUBLISH
X-WR-CALNAME:Espacio Elsa
X-ORIGINAL-URL:https://www.espacioelsa.com
X-WR-CALDESC:Eventos para Espacio Elsa
BEGIN:VTIMEZONE
TZID:Europe/Madrid
BEGIN:DAYLIGHT
TZOFFSETFROM:+0100
TZOFFSETTO:+0200
TZNAME:CEST
DTSTART:20190331T010000
END:DAYLIGHT
BEGIN:STANDARD
TZOFFSETFROM:+0200
TZOFFSETTO:+0100
TZNAME:CET
DTSTART:20191027T010000
END:STANDARD
END:VTIMEZONE
BEGIN:VEVENT
DTSTART;TZID=Europe/Madrid:20191019T100000
DTEND;TZID=Europe/Madrid:20191019T190000
DTSTAMP:20260425T111331
CREATED:20191017T165142Z
LAST-MODIFIED:20191017T165142Z
UID:2885-1571479200-1571511600@www.espacioelsa.com
SUMMARY:Jornada Numerológica
DESCRIPTION:
URL:https://www.espacioelsa.com/evento/jornada-numerologica/
LOCATION:Centro en Sants Estació\, c/ Alcolea 115 Local\, Barcelona\, Barcelona\, 08014\, España
CATEGORIES:Talleres
ATTACH;FMTTYPE=image/jpeg:https://www.espacioelsa.com/wp-content/uploads/2019/10/WhatsApp-Image-2019-10-17-at-18.45.36-1-e1571330862987.jpeg
END:VEVENT
END:VCALENDAR