BEGIN:VCALENDAR
VERSION:2.0
PRODID:-//Espacio Elsa - ECPv5.0.2//NONSGML v1.0//EN
CALSCALE:GREGORIAN
METHOD:PUBLISH
X-WR-CALNAME:Espacio Elsa
X-ORIGINAL-URL:https://www.espacioelsa.com
X-WR-CALDESC:Eventos para Espacio Elsa
BEGIN:VTIMEZONE
TZID:Europe/Madrid
BEGIN:DAYLIGHT
TZOFFSETFROM:+0100
TZOFFSETTO:+0200
TZNAME:CEST
DTSTART:20190331T010000
END:DAYLIGHT
BEGIN:STANDARD
TZOFFSETFROM:+0200
TZOFFSETTO:+0100
TZNAME:CET
DTSTART:20191027T010000
END:STANDARD
END:VTIMEZONE
BEGIN:VEVENT
DTSTART;TZID=Europe/Madrid:20191015T190000
DTEND;TZID=Europe/Madrid:20191015T200000
DTSTAMP:20260425T111428
CREATED:20191010T111939Z
LAST-MODIFIED:20191010T111939Z
UID:2874-1571166000-1571169600@www.espacioelsa.com
SUMMARY:CHARLA GRATUITA: Como llevar tu despertar de Conciencia a tu día a día
DESCRIPTION:
URL:https://www.espacioelsa.com/evento/charla-gratuita-como-llevar-tu-despertar-de-conciencia-a-tu-dia-a-dia/
LOCATION:Centro en Sants Estació\, c/ Alcolea 115 Local\, Barcelona\, Barcelona\, 08014\, España
CATEGORIES:Talleres
ATTACH;FMTTYPE=image/png:https://www.espacioelsa.com/wp-content/uploads/2019/10/71230814_2255896604518641_6398791776802439168_n-e1570706245895.png
ORGANIZER;CN="May%20Montenegro":MAILTO:info@maymontenegro.com
END:VEVENT
END:VCALENDAR